BEGIN:VCALENDAR
VERSION:2.0
PRODID:-//IBG Media - ECPv6.8.0//NONSGML v1.0//EN
CALSCALE:GREGORIAN
METHOD:PUBLISH
X-ORIGINAL-URL:https://ibgmedia.com.vn
X-WR-CALDESC:Events for IBG Media
REFRESH-INTERVAL;VALUE=DURATION:PT1H
X-Robots-Tag:noindex
X-PUBLISHED-TTL:PT1H
BEGIN:VTIMEZONE
TZID:UTC
BEGIN:STANDARD
TZOFFSETFROM:+0000
TZOFFSETTO:+0000
TZNAME:UTC
DTSTART:20230101T000000
END:STANDARD
END:VTIMEZONE
BEGIN:VEVENT
DTSTART;VALUE=DATE:20230616
DTEND;VALUE=DATE:20230617
DTSTAMP:20260420T124326
CREATED:20240425T195246Z
LAST-MODIFIED:20241104T020452Z
UID:11291-1686873600-1686959999@ibgmedia.com.vn
SUMMARY:Canon Ignite – Regional Conference
DESCRIPTION:About the event\nThis is an annual event organized by Canon in the Asia region\, aimed at meeting\, exchanging ideas\, and introducing Canon’s new product lines to its network of dealers in the ASEAN region. The event spans seven days and hosts over 200 guests from 17 countries and territories. In addition to showcasing seven new products\, attendees also have the opportunity to experience Vietnam’s unique culture\, cuisine\, and special performances \nDeliverables\n\nEvent Planning & Managements\nHospitality\nRecreation activities\n\nPhotos event
URL:https://ibgmedia.com.vn/event/canon-ignite-regional-conference/
CATEGORIES:Business Relation
ATTACH;FMTTYPE=image/jpeg:https://ibgmedia.com.vn/wp-content/uploads/2024/04/Canon.jpg
END:VEVENT
END:VCALENDAR